BEGIN:VCALENDAR
VERSION:2.0
PRODID:-//Saginaw CAC - ECPv5.3.1.1//NONSGML v1.0//EN
CALSCALE:GREGORIAN
METHOD:PUBLISH
X-WR-CALNAME:Saginaw CAC
X-ORIGINAL-URL:http://www.saginawcac.org
X-WR-CALDESC:Events for Saginaw CAC
BEGIN:VTIMEZONE
TZID:UTC
BEGIN:STANDARD
TZOFFSETFROM:+0000
TZOFFSETTO:+0000
TZNAME:UTC
DTSTART:20210101T000000
END:STANDARD
END:VTIMEZONE
BEGIN:VEVENT
DTSTART;VALUE=DATE:20210705
DTEND;VALUE=DATE:20210706
DTSTAMP:20260424T094012
CREATED:20210702T133812Z
LAST-MODIFIED:20210702T133833Z
UID:2623-1625443200-1625529599@www.saginawcac.org
SUMMARY:Closed for the Holiday
DESCRIPTION:Closed\nThe agency will be closed in observation of the 4th of July.
URL:http://www.saginawcac.org/event/2623/
END:VEVENT
END:VCALENDAR