BEGIN:VCALENDAR
VERSION:2.0
PRODID:-//Saginaw CAC - ECPv5.3.1.1//NONSGML v1.0//EN
CALSCALE:GREGORIAN
METHOD:PUBLISH
X-WR-CALNAME:Saginaw CAC
X-ORIGINAL-URL:http://www.saginawcac.org
X-WR-CALDESC:Events for Saginaw CAC
BEGIN:VTIMEZONE
TZID:UTC
BEGIN:STANDARD
TZOFFSETFROM:+0000
TZOFFSETTO:+0000
TZNAME:UTC
DTSTART:20170101T000000
END:STANDARD
END:VTIMEZONE
BEGIN:VEVENT
DTSTART;TZID=UTC:20171025T100000
DTEND;TZID=UTC:20171025T100000
DTSTAMP:20260421T094304
CREATED:20170925T180348Z
LAST-MODIFIED:20170927T184049Z
UID:1540-1508925600-1508925600@www.saginawcac.org
SUMMARY:"SAVING AND MAINTAINING THE DREAM" Housing Expo       10:00 AM - 12:00 PM
DESCRIPTION:“SAVING AND MAINTAINING THE DREAM” Housing expo \n 
URL:http://www.saginawcac.org/event/housing-expo/
END:VEVENT
END:VCALENDAR