BEGIN:VCALENDAR
VERSION:2.0
PRODID:-//Saginaw CAC - ECPv5.3.1.1//NONSGML v1.0//EN
CALSCALE:GREGORIAN
METHOD:PUBLISH
X-WR-CALNAME:Saginaw CAC
X-ORIGINAL-URL:http://www.saginawcac.org
X-WR-CALDESC:Events for Saginaw CAC
BEGIN:VTIMEZONE
TZID:UTC
BEGIN:STANDARD
TZOFFSETFROM:+0000
TZOFFSETTO:+0000
TZNAME:UTC
DTSTART:20170101T000000
END:STANDARD
END:VTIMEZONE
BEGIN:VEVENT
DTSTART;TZID=UTC:20171019T173000
DTEND;TZID=UTC:20171019T173000
DTSTAMP:20260421T094024
CREATED:20170927T183733Z
LAST-MODIFIED:20171016T192410Z
UID:1550-1508434200-1508434200@www.saginawcac.org
SUMMARY:SCCAC BOARD MEETING      5:30 PM
DESCRIPTION:
URL:http://www.saginawcac.org/event/sccac-board-meeting-630-pm/
END:VEVENT
END:VCALENDAR