BEGIN:VCALENDAR
VERSION:2.0
PRODID:-//Saginaw CAC - ECPv5.3.1.1//NONSGML v1.0//EN
CALSCALE:GREGORIAN
METHOD:PUBLISH
X-WR-CALNAME:Saginaw CAC
X-ORIGINAL-URL:http://www.saginawcac.org
X-WR-CALDESC:Events for Saginaw CAC
BEGIN:VTIMEZONE
TZID:UTC
BEGIN:STANDARD
TZOFFSETFROM:+0000
TZOFFSETTO:+0000
TZNAME:UTC
DTSTART:20190101T000000
END:STANDARD
END:VTIMEZONE
BEGIN:VEVENT
DTSTART;TZID=UTC:20190115T170000
DTEND;TZID=UTC:20190115T190000
DTSTAMP:20260423T045813
CREATED:20190102T222902Z
LAST-MODIFIED:20210702T140438Z
UID:1959-1547571600-1547578800@www.saginawcac.org
SUMMARY:Financial Literacy "Getting Ahead of Your Finances"
DESCRIPTION:
URL:http://www.saginawcac.org/event/financial-literacy-getting-ahead-of-your-finances/
LOCATION:Saginaw CAC – Main Building\, 2824 Perkins St.\, Saginaw\, MI\, 48601\, United States
END:VEVENT
END:VCALENDAR